BEGIN:VCALENDAR
VERSION:2.0
PRODID:icalendar-ruby
CALSCALE:GREGORIAN
METHOD:PUBLISH
BEGIN:VEVENT
DTSTAMP:20260423T113228Z
UID:13-573437@buchanan.church
DTSTART:20261014T223000Z
DTEND:20261014T233000Z
CLASS:PUBLIC
CREATED:20260422T221452
DESCRIPTION:Ignite - Youth Group
LAST-MODIFIED:20260422T221452
LOCATION:Buchanan Christian Church
SUMMARY:Ignite - Youth Group
URL;VALUE=URI:https://www.buchanan.church/events/ignite-youth-group/2026-10
 -14
ATTACH;FILENAME=328685069_2236279716573332_164937173489488894_n.jpg;FMTTYPE
 =image/jpeg:https://dq5pwpg1q8ru0.cloudfront.net/2023/02/03/06/32/43/a9e77
 abc-11b9-4582-8b59-3403499f0801/328685069_2236279716573332_164937173489488
 894_n.jpg
END:VEVENT
END:VCALENDAR
