BEGIN:VCALENDAR
VERSION:2.0
PRODID:icalendar-ruby
CALSCALE:GREGORIAN
METHOD:PUBLISH
BEGIN:VEVENT
DTSTAMP:20260424T132811Z
UID:21-576424@buchanan.church
DTSTART:20260927T150000Z
DTEND:20260927T160000Z
CLASS:PUBLIC
CREATED:20260424T074516
DESCRIPTION:Sunday Morning Service
LAST-MODIFIED:20260424T074516
LOCATION:Buchanan Christian Church
SUMMARY:Sunday Morning Service
URL;VALUE=URI:https://www.buchanan.church/events/sunday-morning-service/202
 6-09-27
END:VEVENT
END:VCALENDAR
