BEGIN:VCALENDAR
VERSION:2.0
PRODID:icalendar-ruby
CALSCALE:GREGORIAN
METHOD:PUBLISH
BEGIN:VEVENT
DTSTAMP:20260424T150753Z
UID:21-576837@buchanan.church
DTSTART:20261004T150000Z
DTEND:20261004T160000Z
CLASS:PUBLIC
CREATED:20260424T103850
DESCRIPTION:Sunday Morning Service
LAST-MODIFIED:20260424T103850
LOCATION:Buchanan Christian Church
SUMMARY:Sunday Morning Service
URL;VALUE=URI:https://www.buchanan.church/events/sunday-morning-service/202
 6-10-04
END:VEVENT
END:VCALENDAR
