BEGIN:VCALENDAR
VERSION:2.0
PRODID:icalendar-ruby
CALSCALE:GREGORIAN
METHOD:PUBLISH
BEGIN:VEVENT
DTSTAMP:20260424T200008Z
UID:21-577252@buchanan.church
DTSTART:20261025T150000Z
DTEND:20261025T160000Z
CLASS:PUBLIC
CREATED:20260424T132636
DESCRIPTION:Sunday Morning Service
LAST-MODIFIED:20260424T132636
LOCATION:Buchanan Christian Church
SUMMARY:Sunday Morning Service
URL;VALUE=URI:https://www.buchanan.church/events/sunday-morning-service/202
 6-10-25
END:VEVENT
END:VCALENDAR
