BEGIN:VCALENDAR
VERSION:2.0
PRODID:icalendar-ruby
CALSCALE:GREGORIAN
METHOD:PUBLISH
BEGIN:VEVENT
DTSTAMP:20260424T214101Z
UID:21-577665@buchanan.church
DTSTART:20261101T160000Z
DTEND:20261101T170000Z
CLASS:PUBLIC
CREATED:20260424T161329
DESCRIPTION:Sunday Morning Service
LAST-MODIFIED:20260424T161329
LOCATION:Buchanan Christian Church
SUMMARY:Sunday Morning Service
URL;VALUE=URI:https://www.buchanan.church/events/sunday-morning-service/202
 6-11-01
END:VEVENT
END:VCALENDAR
